BEGIN:VCALENDAR
VERSION:2.0
PRODID:-//hacksw/handcal//NONSGML v1.0//EN
CALSCALE:GREGORIAN
BEGIN:VEVENT
ORGANIZER;CN=Cellebrite:MAILTO:no-reply@gcs-web.com
DTEND:
UID:921c3c0e-e3bc-4e4b-87ad-f66801e8c75d
DTSTAMP:1777130450
LOCATION:https://investors.cellebrite.com/events/event-details/mizuho-technology-conference-2026
DESCRIPTION:Event Details https://investors.cellebrite.com/events/event-details/mizuho-technology-conference-2026
URL;VALUE=URI:https://investors.cellebrite.com/events/event-details/mizuho-technology-conference-2026
SUMMARY:Cellebrite - Mizuho Technology Conference 2026
DTSTART:20260610T040000Z
END:VEVENT
END:VCALENDAR